BEGIN:VCALENDAR
VERSION:2.0
PRODID:-//ELES - ECPv6.15.20//NONSGML v1.0//EN
CALSCALE:GREGORIAN
METHOD:PUBLISH
X-WR-CALNAME:ELES
X-ORIGINAL-URL:https://eles-studienwerk.de
X-WR-CALDESC:Veranstaltungen für ELES
REFRESH-INTERVAL;VALUE=DURATION:PT1H
X-Robots-Tag:noindex
X-PUBLISHED-TTL:PT1H
BEGIN:VTIMEZONE
TZID:Europe/Berlin
BEGIN:DAYLIGHT
TZOFFSETFROM:+0100
TZOFFSETTO:+0200
TZNAME:CEST
DTSTART:20250330T010000
END:DAYLIGHT
BEGIN:STANDARD
TZOFFSETFROM:+0200
TZOFFSETTO:+0100
TZNAME:CET
DTSTART:20251026T010000
END:STANDARD
BEGIN:DAYLIGHT
TZOFFSETFROM:+0100
TZOFFSETTO:+0200
TZNAME:CEST
DTSTART:20260329T010000
END:DAYLIGHT
BEGIN:STANDARD
TZOFFSETFROM:+0200
TZOFFSETTO:+0100
TZNAME:CET
DTSTART:20261025T010000
END:STANDARD
BEGIN:DAYLIGHT
TZOFFSETFROM:+0100
TZOFFSETTO:+0200
TZNAME:CEST
DTSTART:20270328T010000
END:DAYLIGHT
BEGIN:STANDARD
TZOFFSETFROM:+0200
TZOFFSETTO:+0100
TZNAME:CET
DTSTART:20271031T010000
END:STANDARD
END:VTIMEZONE
BEGIN:VEVENT
DTSTART;TZID=Europe/Berlin:20260621T080000
DTEND;TZID=Europe/Berlin:20260621T180000
DTSTAMP:20260421T114703
CREATED:20251020T125949Z
LAST-MODIFIED:20251020T130337Z
UID:10486-1782028800-1782064800@eles-studienwerk.de
SUMMARY:Koscheres Streetfood Festival Berlin 2026
DESCRIPTION:Das Koschere Streetfood Festival geht in die fünfte Runde. Details folgen an dieser Stelle.
URL:https://eles-studienwerk.de/event/koscheres-streetfood-festival-2026/
LOCATION:Jüdische Kulturtage
CATEGORIES:Festival
END:VEVENT
END:VCALENDAR